BEGIN:VCALENDAR
VERSION:2.0
PRODID:http://www.pfarrei-marpingen.de
BEGIN:VEVENT
UID:a00a4b43-3ec3-11f1-a3e9-0242ac11002b-1785515400000-de
DTSTAMP:20260423T032214Z
DTSTART:20260731T163000Z
DTEND:20260731T170000Z
SUMMARY;LANGUAGE=de: Aussetzung, Rosenkranz i. Ged. a. d. Marpinger Gelübde v. 23.05.1699 
END:VEVENT
END:VCALENDAR
