BEGIN:VCALENDAR
VERSION:2.0
PRODID:http://www.pfarrei-marpingen.de
BEGIN:VEVENT
UID:9ef3ab18-3ec3-11f1-a3e9-0242ac11002b-1777897800000-de
DTSTAMP:20260423T032213Z
DTSTART:20260504T123000Z
DTEND:20260504T131500Z
SUMMARY;LANGUAGE=de: Sterbeamt 
URL:http://www.pfarrei-marpingen.de/aktuelles/gottesdienste/gottesdienst/Sterbeamt-2026.05.04/
END:VEVENT
END:VCALENDAR
