BEGIN:VCALENDAR
VERSION:2.0
PRODID:http://www.pfarrei-marpingen.de
BEGIN:VEVENT
UID:93c15a4f-3d31-11f1-a3e9-0242ac11002b-1777293000000-de
DTSTAMP:20260421T032416Z
DTSTART:20260427T123000Z
DTEND:20260427T131500Z
SUMMARY;LANGUAGE=de: Sterbeamt 
URL:http://www.pfarrei-marpingen.de/aktuelles/gottesdienste/gottesdienst/Sterbeamt-2026.04.27/
END:VEVENT
END:VCALENDAR
