BEGIN:VCALENDAR
VERSION:2.0
PRODID:http://www.pfarrei-marpingen.de
BEGIN:VEVENT
UID:8d7d4af1-387a-11f1-a3e9-0242ac11002b-1778342400000-de
DTSTAMP:20260415T032403Z
DTSTART:20260509T160000Z
DTEND:20260509T170000Z
SUMMARY;LANGUAGE=de:Floriansmesse
URL:http://www.pfarrei-marpingen.de/aktuelles/gottesdienste/gottesdienst/Floriansmesse-2026.05.09/
END:VEVENT
END:VCALENDAR
