BEGIN:VCALENDAR
VERSION:2.0
PRODID:http://www.pfarrei-marpingen.de
BEGIN:VEVENT
UID:89bb12af-387a-11f1-a3e9-0242ac11002b-1777033800000-de
DTSTAMP:20260415T032357Z
DTSTART:20260424T123000Z
DTEND:20260424T131500Z
SUMMARY;LANGUAGE=de: Sterbeamt 
URL:http://www.pfarrei-marpingen.de/aktuelles/gottesdienste/gottesdienst/Sterbeamt-2026.04.24/
END:VEVENT
END:VCALENDAR
