BEGIN:VCALENDAR
VERSION:2.0
PRODID:http://www.pfarrei-marpingen.de
BEGIN:VEVENT
UID:14920b4e-3f8d-11f1-a3e9-0242ac11002b-1778070600000-de
DTSTAMP:20260424T032419Z
DTSTART:20260506T123000Z
DTEND:20260506T131500Z
SUMMARY;LANGUAGE=de: Sterbeamt 
URL:http://www.pfarrei-marpingen.de/aktuelles/gottesdienste/gottesdienst/Sterbeamt-2026.05.06/
END:VEVENT
END:VCALENDAR
