BEGIN:VCALENDAR
VERSION:2.0
PRODID:http://www.pfarrei-marpingen.de
BEGIN:VEVENT
UID:12fa2d37-3f8d-11f1-a3e9-0242ac11002b-1777021200000-de
DTSTAMP:20260424T032416Z
DTSTART:20260424T090000Z
DTEND:20260424T094500Z
SUMMARY;LANGUAGE=de: Beerdigung 
URL:http://www.pfarrei-marpingen.de/aktuelles/gottesdienste/gottesdienst/Beerdigung-2026.04.24/
END:VEVENT
END:VCALENDAR
